{
 "currentVersion": 10.81,
 "serviceDescription": "Image/SP_Aerial_2015",
 "name": "Image/SP_Aerial_2015",
 "description": "",
 "extent": {
  "xmin": 1245000.0000000068,
  "ymin": 114000.00000000373,
  "xmax": 1458000.0000000068,
  "ymax": 288000.0000000037,
  "spatialReference": {
   "wkid": 2926,
   "latestWkid": 2926
  }
 },
 "initialExtent": {
  "xmin": 1245000.0000000068,
  "ymin": 114000.00000000373,
  "xmax": 1458000.0000000068,
  "ymax": 288000.0000000037,
  "spatialReference": {
   "wkid": 2926,
   "latestWkid": 2926
  }
 },
 "fullExtent": {
  "xmin": 1245000.0000000068,
  "ymin": 114000.00000000373,
  "xmax": 1458000.0000000068,
  "ymax": 288000.0000000037,
  "spatialReference": {
   "wkid": 2926,
   "latestWkid": 2926
  }
 },
 "pixelSizeX": 0.25,
 "pixelSizeY": 0.25,
 "bandCount": 3,
 "pixelType": "U8",
 "minPixelSize": 0,
 "maxPixelSize": 0,
 "copyrightText": "",
 "serviceDataType": "esriImageServiceDataTypeRGB",
 "minValues": [
  7,
  18,
  29
 ],
 "maxValues": [
  255,
  255,
  255
 ],
 "meanValues": [
  83.38591865415152,
  90.4909778693453,
  87.16535911149688
 ],
 "stdvValues": [
  31.68105690533015,
  27.17977092106764,
  24.328310310062097
 ],
 "objectIdField": "OBJECTID",
 "fields": [
  {
   "name": "OBJECTID",
   "type": "esriFieldTypeOID",
   "alias": "OBJECTID",
   "domain": null
  },
  {
   "name": "Shape",
   "type": "esriFieldTypeGeometry",
   "alias": "Shape",
   "domain": null
  },
  {
   "name": "Name",
   "type": "esriFieldTypeString",
   "alias": "Name",
   "domain": null,
   "length": 200
  },
  {
   "name": "MinPS",
   "type": "esriFieldTypeDouble",
   "alias": "MinPS",
   "domain": null
  },
  {
   "name": "MaxPS",
   "type": "esriFieldTypeDouble",
   "alias": "MaxPS",
   "domain": null
  },
  {
   "name": "LowPS",
   "type": "esriFieldTypeDouble",
   "alias": "LowPS",
   "domain": null
  },
  {
   "name": "HighPS",
   "type": "esriFieldTypeDouble",
   "alias": "HighPS",
   "domain": null
  },
  {
   "name": "Category",
   "type": "esriFieldTypeInteger",
   "alias": "Category",
   "domain": {
    "type": "codedValue",
    "name": "MosaicCatalogItemCategoryDomain",
    "description": "Catalog item categories.",
    "codedValues": [
     {
      "name": "Unknown",
      "code": 0
     },
     {
      "name": "Primary",
      "code": 1
     },
     {
      "name": "Overview",
      "code": 2
     },
     {
      "name": "Unprocessed Overview",
      "code": 3
     },
     {
      "name": "Partial Overview",
      "code": 4
     },
     {
      "name": "Inactive",
      "code": 5
     },
     {
      "name": "Uploaded",
      "code": 253
     },
     {
      "name": "Incomplete",
      "code": 254
     },
     {
      "name": "Custom",
      "code": 255
     }
    ],
    "mergePolicy": "esriMPTDefaultValue",
    "splitPolicy": "esriSPTDefaultValue"
   }
  },
  {
   "name": "Tag",
   "type": "esriFieldTypeString",
   "alias": "Tag",
   "domain": null,
   "length": 100
  },
  {
   "name": "GroupName",
   "type": "esriFieldTypeString",
   "alias": "GroupName",
   "domain": null,
   "length": 100
  },
  {
   "name": "ProductName",
   "type": "esriFieldTypeString",
   "alias": "ProductName",
   "domain": null,
   "length": 100
  },
  {
   "name": "CenterX",
   "type": "esriFieldTypeDouble",
   "alias": "CenterX",
   "domain": null
  },
  {
   "name": "CenterY",
   "type": "esriFieldTypeDouble",
   "alias": "CenterY",
   "domain": null
  },
  {
   "name": "ZOrder",
   "type": "esriFieldTypeInteger",
   "alias": "ZOrder",
   "domain": null
  },
  {
   "name": "Shape_Length",
   "type": "esriFieldTypeDouble",
   "alias": "Shape_Length",
   "domain": null
  },
  {
   "name": "Shape_Area",
   "type": "esriFieldTypeDouble",
   "alias": "Shape_Area",
   "domain": null
  }
 ],
 "capabilities": "Catalog,Image,Metadata",
 "defaultMosaicMethod": "Northwest",
 "allowedMosaicMethods": "NorthWest,Center,LockRaster,ByAttribute,Nadir,Viewpoint,Seamline,None",
 "sortField": "",
 "sortValue": null,
 "sortAscending": true,
 "mosaicOperator": "First",
 "maxDownloadSizeLimit": 2048,
 "defaultCompressionQuality": 75,
 "defaultResamplingMethod": "Bilinear",
 "maxImageHeight": 4100,
 "maxImageWidth": 15000,
 "maxRecordCount": 1000,
 "maxDownloadImageCount": 20,
 "maxMosaicImageCount": 20,
 "singleFusedMapCache": true,
 "tileInfo": {
  "rows": 256,
  "cols": 256,
  "dpi": 96,
  "format": "JPEG",
  "compressionQuality": 75,
  "origin": {
   "x": -117104300,
   "y": 137949800
  },
  "spatialReference": {
   "wkid": 2926,
   "latestWkid": 2926
  },
  "lods": [
   {
    "level": 0,
    "resolution": 2133.333333333333,
    "scale": 2457600
   },
   {
    "level": 1,
    "resolution": 1066.6666666666665,
    "scale": 1228800
   },
   {
    "level": 2,
    "resolution": 533.3333333333333,
    "scale": 614400
   },
   {
    "level": 3,
    "resolution": 266.66666666666663,
    "scale": 307200
   },
   {
    "level": 4,
    "resolution": 133.33333333333331,
    "scale": 153600
   },
   {
    "level": 5,
    "resolution": 66.66666666666666,
    "scale": 76800
   },
   {
    "level": 6,
    "resolution": 33.33333333333333,
    "scale": 38400
   },
   {
    "level": 7,
    "resolution": 16.666666666666664,
    "scale": 19200
   },
   {
    "level": 8,
    "resolution": 8.333333333333332,
    "scale": 9600
   },
   {
    "level": 9,
    "resolution": 4.166666666666666,
    "scale": 4800
   },
   {
    "level": 10,
    "resolution": 2.083333333333333,
    "scale": 2400
   },
   {
    "level": 11,
    "resolution": 1.0416666666666665,
    "scale": 1200
   },
   {
    "level": 12,
    "resolution": 0.5208333333333333,
    "scale": 600
   },
   {
    "level": 13,
    "resolution": 0.26041666666666663,
    "scale": 300
   }
  ]
 },
 "cacheType": "Map",
 "allowRasterFunction": true,
 "rasterFunctionInfos": [
  {
   "name": "None",
   "description": "A No-Op Function.",
   "help": ""
  }
 ],
 "rasterTypeInfos": [
  {
   "name": "Raster Dataset",
   "description": "Supports all ArcGIS Raster Datasets",
   "help": ""
  }
 ],
 "mensurationCapabilities": "None",
 "hasHistograms": true,
 "hasColormap": false,
 "hasRasterAttributeTable": false,
 "minScale": 0,
 "maxScale": 0,
 "exportTilesAllowed": false,
 "hasMultidimensions": false,
 "supportsStatistics": true,
 "supportsAdvancedQueries": true,
 "editFieldsInfo": null,
 "ownershipBasedAccessControlForRasters": null,
 "allowComputeTiePoints": false,
 "useStandardizedQueries": true,
 "advancedQueryCapabilities": {
  "useStandardizedQueries": true,
  "supportsStatistics": true,
  "supportsOrderBy": true,
  "supportsDistinct": true,
  "supportsPagination": true
 },
 "spatialReference": {
  "wkid": 2926,
  "latestWkid": 2926
 }
}
