{
 "currentVersion": 10.81,
 "serviceDescription": "",
 "mapName": "Layers",
 "description": "",
 "copyrightText": "",
 "supportsDynamicLayers": false,
 "layers": [
  {
   "id": 0,
   "name": "WAState",
   "parentLayerId": -1,
   "defaultVisibility": true,
   "subLayerIds": null,
   "minScale": 0,
   "maxScale": 0,
   "type": "Feature Layer",
   "geometryType": "esriGeometryPolygon"
  }
 ],
 "tables": [],
 "spatialReference": {
  "wkid": 2926,
  "latestWkid": 2926
 },
 "singleFusedMapCache": true,
 "tileInfo": {
  "rows": 256,
  "cols": 256,
  "dpi": 96,
  "format": "JPEG",
  "compressionQuality": 75,
  "origin": {
   "x": -117104300,
   "y": 137949800
  },
  "spatialReference": {
   "wkid": 2926,
   "latestWkid": 2926
  },
  "lods": [
   {
    "level": 0,
    "resolution": 2133.3333333333335,
    "scale": 2457600
   },
   {
    "level": 1,
    "resolution": 1066.6666666666667,
    "scale": 1228800
   },
   {
    "level": 2,
    "resolution": 533.3333333333334,
    "scale": 614400
   },
   {
    "level": 3,
    "resolution": 266.6666666666667,
    "scale": 307200
   },
   {
    "level": 4,
    "resolution": 133.33333333333334,
    "scale": 153600
   },
   {
    "level": 5,
    "resolution": 66.66666666666667,
    "scale": 76800
   },
   {
    "level": 6,
    "resolution": 33.333333333333336,
    "scale": 38400
   },
   {
    "level": 7,
    "resolution": 16.666666666666668,
    "scale": 19200
   },
   {
    "level": 8,
    "resolution": 8.333333333333334,
    "scale": 9600
   },
   {
    "level": 9,
    "resolution": 4.166666666666667,
    "scale": 4800
   },
   {
    "level": 10,
    "resolution": 2.0833333333333335,
    "scale": 2400
   },
   {
    "level": 11,
    "resolution": 1.0416666666666667,
    "scale": 1200
   },
   {
    "level": 12,
    "resolution": 0.5208333333333334,
    "scale": 600
   },
   {
    "level": 13,
    "resolution": 0.2604166666666667,
    "scale": 300
   }
  ]
 },
 "initialExtent": {
  "xmin": -82206.75960565777,
  "ymin": -253704.0206261949,
  "xmax": 3382820.8221054096,
  "ymax": 1153888.4987263284,
  "spatialReference": {
   "wkid": 2926,
   "latestWkid": 2926
  }
 },
 "fullExtent": {
  "xmin": 664166.810939461,
  "ymin": -527832.5002739877,
  "xmax": 2636447.251560291,
  "ymax": 751797.0627737606,
  "spatialReference": {
   "wkid": 2926,
   "latestWkid": 2926
  }
 },
 "minScale": 2457600,
 "maxScale": 300,
 "units": "esriFeet",
 "supportedImageFormatTypes": "PNG32,PNG24,PNG,JPG,DIB,TIFF,EMF,PS,PDF,GIF,SVG,SVGZ,BMP",
 "documentInfo": {
  "Title": "",
  "Author": "",
  "Comments": "",
  "Subject": "",
  "Category": "",
  "AntialiasingMode": "None",
  "TextAntialiasingMode": "Force",
  "Keywords": ""
 },
 "capabilities": "Map,Data",
 "supportedQueryFormats": "JSON, geoJSON",
 "exportTilesAllowed": true,
 "maxExportTilesCount": 100000,
 "referenceScale": 0,
 "supportsDatumTransformation": true,
 "maxRecordCount": 1000,
 "maxImageHeight": 4096,
 "maxImageWidth": 4096,
 "supportedExtensions": "",
 "resampling": false
}
