{
 "currentVersion": 10.81,
 "serviceDescription": "City of Seattle Aerial Basemap 2009",
 "mapName": "Layers",
 "description": "",
 "copyrightText": "City of Seattle",
 "supportsDynamicLayers": false,
 "layers": [
  {
   "id": 0,
   "name": "washco",
   "parentLayerId": -1,
   "defaultVisibility": true,
   "subLayerIds": null,
   "minScale": 0,
   "maxScale": 0,
   "type": "Feature Layer",
   "geometryType": "esriGeometryPolygon"
  }
 ],
 "tables": [],
 "spatialReference": {
  "wkid": 2926,
  "latestWkid": 2926
 },
 "singleFusedMapCache": true,
 "tileInfo": {
  "rows": 256,
  "cols": 256,
  "dpi": 96,
  "format": "MIXED",
  "compressionQuality": 80,
  "origin": {
   "x": -117104300,
   "y": 137949800
  },
  "spatialReference": {
   "wkid": 2926,
   "latestWkid": 2926
  },
  "lods": [
   {
    "level": 0,
    "resolution": 2133.333333333333,
    "scale": 2457600
   },
   {
    "level": 1,
    "resolution": 1066.6666666666665,
    "scale": 1228800
   },
   {
    "level": 2,
    "resolution": 533.3333333333333,
    "scale": 614400
   },
   {
    "level": 3,
    "resolution": 266.66666666666663,
    "scale": 307200
   },
   {
    "level": 4,
    "resolution": 133.33333333333331,
    "scale": 153600
   },
   {
    "level": 5,
    "resolution": 66.66666666666666,
    "scale": 76800
   },
   {
    "level": 6,
    "resolution": 33.33333333333333,
    "scale": 38400
   },
   {
    "level": 7,
    "resolution": 16.666666666666664,
    "scale": 19200
   },
   {
    "level": 8,
    "resolution": 8.333333333333332,
    "scale": 9600
   },
   {
    "level": 9,
    "resolution": 4.166666666666666,
    "scale": 4800
   },
   {
    "level": 10,
    "resolution": 2.083333333333333,
    "scale": 2400
   },
   {
    "level": 11,
    "resolution": 1.0416666666666665,
    "scale": 1200
   },
   {
    "level": 12,
    "resolution": 0.5208333333333333,
    "scale": 600
   },
   {
    "level": 13,
    "resolution": 0.26041666666666663,
    "scale": 300
   }
  ]
 },
 "initialExtent": {
  "xmin": 1190889.3341260764,
  "ymin": 780042.1959618665,
  "xmax": 1317230.1499357496,
  "ymax": 817189.7283062157,
  "spatialReference": {
   "wkid": 2926,
   "latestWkid": 2926
  }
 },
 "fullExtent": {
  "xmin": 664166.8109394759,
  "ymin": -527832.5002739727,
  "xmax": 2636447.2515603006,
  "ymax": 751797.062773779,
  "spatialReference": {
   "wkid": 2926,
   "latestWkid": 2926
  }
 },
 "minScale": 2457600,
 "maxScale": 0,
 "units": "esriFeet",
 "supportedImageFormatTypes": "PNG32,PNG24,PNG,JPG,DIB,TIFF,EMF,PS,PDF,GIF,SVG,SVGZ,BMP",
 "documentInfo": {
  "Title": "Roads Basemap September 2019",
  "Author": "GIS Products & Services Team",
  "Comments": "City of Seattle Roads Basemap September 2019",
  "Subject": "City of Seattle Roads Basemap September 2019",
  "Category": "",
  "AntialiasingMode": "None",
  "TextAntialiasingMode": "Force",
  "Keywords": "City of Seattle,Basemap,2019"
 },
 "capabilities": "Map",
 "supportedQueryFormats": "JSON, geoJSON",
 "exportTilesAllowed": true,
 "maxExportTilesCount": 100000,
 "referenceScale": 0,
 "supportsDatumTransformation": true,
 "maxRecordCount": 1000,
 "maxImageHeight": 4096,
 "maxImageWidth": 4096,
 "supportedExtensions": "",
 "resampling": true
}
